BEGIN:VCALENDAR
PRODID:-//github.com/rianjs/ical.net//NONSGML ical.net 4.0//EN
VERSION:2.0
BEGIN:VEVENT
DESCRIPTION:Ein zügiges\, dem Leistungsvermögen der Teilnehmer angepasstes
  Walken ist das Zauberwort.\nMit oder ohne Stöcke gehen wir 1 - 1\,5 Stun
 den durch die Landsberger Natur.\nhttps://touren-termine.adfc.de/radveran
 staltung/140803-3-winterfitness-am-samstag-ab-13-uhr
DTEND:20260124T150000Z
DTSTAMP:20260420T210416Z
DTSTART:20260124T120000Z
LOCATION:Von-Kühlmann-Straße\, Parkplatz Landratsamt\, 86899 Landsberg am 
 Lech
SEQUENCE:0
SUMMARY:3. Winterfitness am Samstag ab 13 Uhr
UID:cf0b5a6c-34b0-4fe3-b7b1-1887836d6c8f
URL:https://touren-termine.adfc.de/radveranstaltung/140803-3-winterfitness
 -am-samstag-ab-13-uhr
END:VEVENT
END:VCALENDAR
