BEGIN:VCALENDAR
PRODID:-//github.com/rianjs/ical.net//NONSGML ical.net 4.0//EN
VERSION:2.0
BEGIN:VEVENT
DESCRIPTION:Wir treffen uns regelmäßig am dritten Montag im Monat um gemei
 nsame Aktionen zu planen oder uns zu allgemeinen Fahrradthemen auszutausc
 hen. Komm vorbei!\nhttps://touren-termine.adfc.de/radveranstaltung/176071
 -treffen-des-jungen-adfc-berlin
DTEND:20260817T190000Z
DTSTAMP:20260420T120122Z
DTSTART:20260817T170000Z
LOCATION:Café Uebereck\, Sonntagstraße 31\, 10245 Berlin\, 10245 Berlin
SEQUENCE:0
SUMMARY:Treffen des Jungen ADFC Berlin
UID:c22113b3-a510-47a5-a680-20408018ca9f
URL:https://touren-termine.adfc.de/radveranstaltung/176071-treffen-des-jun
 gen-adfc-berlin
END:VEVENT
END:VCALENDAR
