BEGIN:VCALENDAR
PRODID:-//github.com/rianjs/ical.net//NONSGML ical.net 4.0//EN
VERSION:2.0
BEGIN:VEVENT
DESCRIPTION:Radtour durch Leverkusen und Umgebung mit 20 max. Teilnehmern.
 \nAnmeldung erforderlich!\nhttps://touren-termine.adfc.de/radveranstaltun
 g/146028-vormittagsradtour-leverkusen
DTEND:20250506T110000Z
DTSTAMP:20260419T155556Z
DTSTART:20250506T080000Z
LOCATION:Tannenbergstraße\, unter der Stelzenautobahn\, 51373 Leverkusen
SEQUENCE:0
SUMMARY:Vormittagsradtour Leverkusen
UID:cc876b00-76c1-4606-b5df-8c9d61f4151f
URL:https://touren-termine.adfc.de/radveranstaltung/146028-vormittagsradto
 ur-leverkusen
END:VEVENT
END:VCALENDAR
