BEGIN:VCALENDAR
PRODID:-//github.com/rianjs/ical.net//NONSGML ical.net 4.0//EN
VERSION:2.0
BEGIN:VEVENT
DESCRIPTION:Eröffnung der Radsaison mit einer Sternfahrt zum Orangefest na
 ch Oranienburg\nhttps://touren-termine.adfc.de/radveranstaltung/129475-fa
 hrradfruhling-oberhavel
DTEND:20240428T110000Z
DTSTAMP:20260425T231856Z
DTSTART:20240428T080000Z
LOCATION:Schloßplatz\, 16515 Oranienburg
SEQUENCE:0
SUMMARY:Fahrrad-Frühling Oberhavel
UID:86469658-b772-4053-8ebf-fe11f910e74d
URL:https://touren-termine.adfc.de/radveranstaltung/129475-fahrradfruhling
 -oberhavel
END:VEVENT
END:VCALENDAR
