BEGIN:VCALENDAR
PRODID:-//github.com/rianjs/ical.net//NONSGML ical.net 4.0//EN
VERSION:2.0
BEGIN:VEVENT
DESCRIPTION:Gegen einen Gebür Codieren wir Fahrräder. Das dient dem Diebst
 ahlschutz und ermöglicht es das Rad bei Verlust wiederzufinden .\nhttps:/
 /touren-termine.adfc.de/radveranstaltung/198648-fahrrad-codierung
DTEND:20260425T120000Z
DTSTAMP:20260422T210805Z
DTSTART:20260425T090000Z
LOCATION:Wörthsee bei Il Kiosko\, 82237 Landkreis Starnberg
SEQUENCE:0
SUMMARY:Fahrrad Codierung
UID:f4d03750-f613-4c26-98d0-3597826e6bef
URL:https://touren-termine.adfc.de/radveranstaltung/198648-fahrrad-codieru
 ng
END:VEVENT
END:VCALENDAR
