BEGIN:VCALENDAR
PRODID:-//github.com/rianjs/ical.net//NONSGML ical.net 4.0//EN
VERSION:2.0
BEGIN:VEVENT
DESCRIPTION:o.A. = ohne Anmeldung. - Unser monatlicher Radler-Stammtisch\,
  dieses Mal: Mit Bericht über eine tolle Radtour in Belgien 2024\, mit vi
 elen Eindrücken. - Eintritt frei\nhttps://touren-termine.adfc.de/radveran
 staltung/141845-oa-stammtisch-radfahren-mit-kunst-
DTEND:20250325T200000Z
DTSTAMP:20260424T173050Z
DTSTART:20250325T173000Z
LOCATION:Dorfgemeinschaftshaus DGH Krähenwinkel: Auf dem Moorhofe 4\, 3085
 5 Langenhagen
SEQUENCE:0
SUMMARY:o.A.: Stammtisch "Radfahren mit Kunst" ⓇⓈ
UID:8f95d78d-94e2-4167-9cec-eb737fa1aa20
URL:https://touren-termine.adfc.de/radveranstaltung/141845-oa-stammtisch-r
 adfahren-mit-kunst-
END:VEVENT
END:VCALENDAR
