BEGIN:VCALENDAR
PRODID:-//github.com/rianjs/ical.net//NONSGML ical.net 4.0//EN
VERSION:2.0
BEGIN:VEVENT
DESCRIPTION:Vor dem Radlerstammtisch treffen sich die Aktiven und die Vors
 tandschaft.\nhttps://touren-termine.adfc.de/radveranstaltung/174090-aktiv
 entreff
DTEND:20260205T180000Z
DTSTAMP:20260419T155933Z
DTSTART:20260205T170000Z
LOCATION:Gasthaus Belfort\, Mindelheimer Straße 35\, 87600 Kaufbeuren
SEQUENCE:0
SUMMARY:Aktiventreff
UID:8a4082cc-5791-4e48-96ab-3c8d5a760502
URL:https://touren-termine.adfc.de/radveranstaltung/174090-aktiventreff
END:VEVENT
END:VCALENDAR
