BEGIN:VCALENDAR
PRODID:-//github.com/rianjs/ical.net//NONSGML ical.net 4.0//EN
VERSION:2.0
BEGIN:VEVENT
DESCRIPTION:Kennenlerntour durch Stuttgarter Stadtteile\nhttps://touren-te
 rmine.adfc.de/radveranstaltung/105767-fahrradstadtteiltour-stuttgart-ost
DTEND:20230909T140000Z
DTSTAMP:20260424T144257Z
DTSTART:20230909T120000Z
LOCATION:Schwanenplatztunnel\, 70190 Stuttgart
SEQUENCE:0
SUMMARY:Fahrrad-Stadtteiltour Stuttgart Ost
UID:0bef71ce-f1fb-45a3-bcde-a7fab9ac4b5e
URL:https://touren-termine.adfc.de/radveranstaltung/105767-fahrradstadttei
 ltour-stuttgart-ost
END:VEVENT
END:VCALENDAR
