BEGIN:VCALENDAR
PRODID:-//github.com/rianjs/ical.net//NONSGML ical.net 4.0//EN
VERSION:2.0
BEGIN:VEVENT
DESCRIPTION:Ein ADFC-TourGuide-Seminar für noch nicht zertifizierte Tourem
 leiter:innen vom ADFC Landesverband  Berlin und ADFC Landesverband Brande
 nburg.\nhttps://touren-termine.adfc.de/radveranstaltung/151671-adfctourgu
 ideseminar-online-und-in-prasenz
DTEND:20251123T153000Z
DTSTAMP:20260424T173211Z
DTSTART:20251122T090000Z
LOCATION:Online und Präsenz\, 10963 Berlin
SEQUENCE:0
SUMMARY:ADFC-TourGuide-Seminar (online und in Präsenz)
UID:7ff943ff-aa7e-4a14-90b9-2aeb57966f78
URL:https://touren-termine.adfc.de/radveranstaltung/151671-adfctourguidese
 minar-online-und-in-prasenz
END:VEVENT
END:VCALENDAR
