BEGIN:VCALENDAR
PRODID:-//github.com/rianjs/ical.net//NONSGML ical.net 4.0//EN
VERSION:2.0
BEGIN:VEVENT
DESCRIPTION:Wir sind an allen Messetagen mit einem Infostand auf der Fahrr
 admesse vertreten.\nhttps://touren-termine.adfc.de/radveranstaltung/14783
 0-der-adfc-essen-auf-der-fahrradmesse-essen
DTEND;VALUE=DATE:20250223
DTSTAMP:20260421T102110Z
DTSTART;VALUE=DATE:20250220
LOCATION:Messe Essen\, 45131 Essen
SEQUENCE:0
SUMMARY:Der ADFC Essen auf der Fahrradmesse Essen
UID:7e7a2e98-6edc-448a-b0cb-9bf366507503
URL:https://touren-termine.adfc.de/radveranstaltung/147830-der-adfc-essen-
 auf-der-fahrradmesse-essen
END:VEVENT
END:VCALENDAR
