BEGIN:VCALENDAR
PRODID:-//github.com/rianjs/ical.net//NONSGML ical.net 4.0//EN
VERSION:2.0
BEGIN:VEVENT
DESCRIPTION:Über die "Rü" - "Grugatrasse" - "RS1" retour\nhttps://touren-t
 ermine.adfc.de/radveranstaltung/173213-kleine-hausrunde
DTEND:20260719T110000Z
DTSTAMP:20260421T120325Z
DTSTART:20260719T090000Z
LOCATION:Willy-Brandt-Platz\, 45127 Essen
SEQUENCE:0
SUMMARY:Kleine Hausrunde
UID:bbbd2a8a-69c9-4f71-96db-6847cf6b7999
URL:https://touren-termine.adfc.de/radveranstaltung/173213-kleine-hausrunde
END:VEVENT
END:VCALENDAR
