BEGIN:VCALENDAR
PRODID:-//github.com/rianjs/ical.net//NONSGML ical.net 4.0//EN
VERSION:2.0
BEGIN:VEVENT
DESCRIPTION:Am Freitag 09.08.2024 demonstrieren wir auf drei Routen: Aus W
 estend\, Lichtenberg und Steglitz kommen Radfahrende am Roten Rathaus zus
 ammen und fordern vom Berliner Senat: Mobilitätsgesetz einhalten!\nhttps:
 //touren-termine.adfc.de/radveranstaltung/137618-demo-radwegestopp-20-nic
 htmituns
DTEND:20240809T140000Z
DTSTAMP:20260421T233639Z
DTSTART:20240809T120000Z
LOCATION:Rathausstraße\, 10178 Berlin
SEQUENCE:0
SUMMARY:Demo: Radwegestopp 2.0? #Nichtmituns!
UID:fb0b4c28-341e-42ad-ae0f-0b4dcbb1be5c
URL:https://touren-termine.adfc.de/radveranstaltung/137618-demo-radwegesto
 pp-20-nichtmituns
END:VEVENT
END:VCALENDAR
