BEGIN:VCALENDAR
PRODID:-//github.com/rianjs/ical.net//NONSGML ical.net 4.0//EN
VERSION:2.0
BEGIN:VEVENT
DESCRIPTION:Eine Kulturreise in 8 Tagen an Main und Tauber entlang\, mit S
 tart in Bayreuth und Ziel in Würzburg.\nhttps://touren-termine.adfc.de/ra
 dveranstaltung/87630-radreise-von-bierfranken-nach-weinfranken
DTEND:20230625T100000Z
DTSTAMP:20260425T150753Z
DTSTART:20230617T140000Z
LOCATION:Eduard-Bayerlein-Straße\, 95445 Bayreuth
SEQUENCE:0
SUMMARY:Radreise: Von Bierfranken nach Weinfranken
UID:e16a7db9-ed56-4f86-8cc7-d4fc9ee1d024
URL:https://touren-termine.adfc.de/radveranstaltung/87630-radreise-von-bie
 rfranken-nach-weinfranken
END:VEVENT
END:VCALENDAR
