BEGIN:VCALENDAR
PRODID:-//github.com/rianjs/ical.net//NONSGML ical.net 4.0//EN
VERSION:2.0
BEGIN:VEVENT
DESCRIPTION:Die neu gegründete Frauengruppe im ADFC Stuttgart trifft sich 
 regelmäßig unter dem Motto "Keine fährt alleine" und lädt alle interessie
 rten Frauen zum Mitmachen ein. Heute am ADFC-Parklet!\nhttps://touren-ter
 mine.adfc.de/radveranstaltung/140067-treffen-der-adfc-frauengruppe
DTEND:20241015T190000Z
DTSTAMP:20260424T113541Z
DTSTART:20241015T160000Z
LOCATION:Augustenstraße 72\, 70178 Stuttgart
SEQUENCE:0
SUMMARY:Treffen der ADFC Frauengruppe
UID:db88c562-891b-4e88-bb4f-3d849d1e7a73
URL:https://touren-termine.adfc.de/radveranstaltung/140067-treffen-der-adf
 c-frauengruppe
END:VEVENT
END:VCALENDAR
