BEGIN:VCALENDAR
PRODID:-//github.com/rianjs/ical.net//NONSGML ical.net 4.0//EN
VERSION:2.0
BEGIN:VEVENT
DESCRIPTION:Zum Tagesausklang radeln wir für zwei Stunden einschließlich E
 inkehr in die nähere Umgebung von Oranienburg.\nhttps://touren-termine.ad
 fc.de/radveranstaltung/104546-oranienburg-feierabendrundtour
DTEND:20230726T190000Z
DTSTAMP:20260425T201616Z
DTSTART:20230726T160000Z
LOCATION:Bahnhofsplatz Oranienburg\, 16515 Oranienburg
SEQUENCE:0
SUMMARY:Oranienburg Feierabend-Rundtour
UID:bd4bf637-6923-4dd6-a4f8-b7d17a50606b
URL:https://touren-termine.adfc.de/radveranstaltung/104546-oranienburg-fei
 erabendrundtour
END:VEVENT
END:VCALENDAR
