BEGIN:VCALENDAR
PRODID:-//github.com/rianjs/ical.net//NONSGML ical.net 4.0//EN
VERSION:2.0
BEGIN:VEVENT
DESCRIPTION:Reparieren statt Wegwerfen!\nEhrenamtliche vom Repair-Cafe rep
 ariert defekte Gegenstände\, der ADFC codiert Fahrräder.\nhttps://touren-
 termine.adfc.de/radveranstaltung/114715-repair-cafe-in-langen-mit-fahrrad
 codierung
DTEND:20231216T120000Z
DTSTAMP:20260421T022208Z
DTSTART:20231216T090000Z
LOCATION:vhs-Laden im Lindenhof Center\, Debstedter Straße 5a\, 27607 Gees
 tland
SEQUENCE:0
SUMMARY:Repair Café in Langen mit Fahrrad-Codierung
UID:a78778f9-a3d2-4ce9-90c8-9caa20160208
URL:https://touren-termine.adfc.de/radveranstaltung/114715-repair-cafe-in-
 langen-mit-fahrradcodierung
END:VEVENT
END:VCALENDAR
