BEGIN:VCALENDAR
PRODID:-//github.com/rianjs/ical.net//NONSGML ical.net 4.0//EN
VERSION:2.0
BEGIN:VEVENT
DESCRIPTION:Hinfahrt mit dem Bergischen Fahrradbus von Opladen nach Marien
 heide\, Rückfahrt mit dem Fahrrad über den Bergischen Panorama-Radweg und
  die Balkantrasse nach Opladen\nhttps://touren-termine.adfc.de/radveranst
 altung/105753-bahntrassentour-marienheideopladen
DTEND:20230730T160000Z
DTSTAMP:20260421T121022Z
DTSTART:20230730T064500Z
LOCATION:Wupsi-Kundencenter Freiherr-vom-Stein-Straße 1\, 51379 Leverkusen
SEQUENCE:0
SUMMARY:Bahntrassentour Marienheide-Opladen
UID:5e23146d-8a6d-4ee1-9bbe-df4fe14928dc
URL:https://touren-termine.adfc.de/radveranstaltung/105753-bahntrassentour
 -marienheideopladen
END:VEVENT
END:VCALENDAR
