BEGIN:VCALENDAR
PRODID:-//github.com/rianjs/ical.net//NONSGML ical.net 4.0//EN
VERSION:2.0
BEGIN:VEVENT
DESCRIPTION:Unsere Geschäftsstelle ist für alle Anliegen und offenen Frage
 n geöffnet.\nhttps://touren-termine.adfc.de/radveranstaltung/147967-offnu
 ngszeit-unserer-geschaftsstelle
DTEND:20250502T160000Z
DTSTAMP:20260421T121153Z
DTSTART:20250502T140000Z
LOCATION:Essen (Innenstadt)\, ADFC Essen Geschäftsstelle\, Rottstraße 5\, 
 45127 Essen
SEQUENCE:0
SUMMARY:Öffnungszeit unserer Geschäftsstelle
UID:c68d12ef-3cf3-47c1-be05-10e4caca0b50
URL:https://touren-termine.adfc.de/radveranstaltung/147967-offnungszeit-un
 serer-geschaftsstelle
END:VEVENT
END:VCALENDAR
