BEGIN:VCALENDAR
PRODID:-//github.com/rianjs/ical.net//NONSGML ical.net 4.0//EN
VERSION:2.0
BEGIN:VEVENT
DESCRIPTION:Wir fahren in Fahrgemeinschaften ins Alpenland. Das Ziel wird 
 bei der Anmeldung bekannt gegeben. Im Voralpenland und im 5 Seengebiet we
 rden ebenso Touren angeboten.\nhttps://touren-termine.adfc.de/radveransta
 ltung/190629-mtbbergtour-nach-wahl
DTEND:20270318T060000Z
DTSTAMP:20260425T150337Z
DTSTART:20260723T060000Z
LOCATION:Carolinenstraße 1a\, 82319 Starnberg
SEQUENCE:0
SUMMARY:MTB-Bergtour nach Wahl
UID:821e2d2a-9b8d-45dd-8e75-060d19380a1b
URL:https://touren-termine.adfc.de/radveranstaltung/190629-mtbbergtour-nac
 h-wahl
END:VEVENT
END:VCALENDAR
