BEGIN:VCALENDAR
PRODID:-//github.com/rianjs/ical.net//NONSGML ical.net 4.0//EN
VERSION:2.0
BEGIN:VEVENT
DESCRIPTION:Der Bezirksrat des ADFC Berlin e.V.  ist ein Gremium zur Koord
 inierung für die Tätigkeit der Stadtteilgruppen.\nhttps://touren-termine.
 adfc.de/radveranstaltung/189745-bezirksratssitzung
DTEND:20260226T200000Z
DTSTAMP:20260424T173350Z
DTSTART:20260226T180000Z
LOCATION:Stadtwerkstatt\, Karl-Liebknecht-Straße 11\, 10178 Berlin
SEQUENCE:0
SUMMARY:Bezirksratssitzung
UID:68d51ad0-78cb-4561-82a0-89e645772188
URL:https://touren-termine.adfc.de/radveranstaltung/189745-bezirksratssitz
 ung
END:VEVENT
END:VCALENDAR
