BEGIN:VCALENDAR
PRODID:-//github.com/rianjs/ical.net//NONSGML ical.net 4.0//EN
VERSION:2.0
BEGIN:VEVENT
DESCRIPTION:Über den Strategischen Bahndamm und Stommeln  fahren wir auf d
 ie Glessener Höhe\, eine 204 Meter hohe rekultivierte Abraumhalde der Tag
 ebaue.\nhttps://touren-termine.adfc.de/radveranstaltung/158223-zur-glesse
 ner-hohe
DTEND:20250607T160000Z
DTSTAMP:20260421T204209Z
DTSTART:20250607T070000Z
LOCATION:Rathaus\, Am Neumarkt 2 (Alte Heerstrasse\, neben den Ladesäulen 
 an der Parkplatzeinfahrt)\, 41564 Kaarst
SEQUENCE:0
SUMMARY:Zur Glessener Höhe
UID:f2b6e4ab-2c54-4e5c-9d8d-59f4841ddff2
URL:https://touren-termine.adfc.de/radveranstaltung/158223-zur-glessener-h
 ohe
END:VEVENT
END:VCALENDAR
