BEGIN:VCALENDAR
PRODID:-//github.com/rianjs/ical.net//NONSGML ical.net 4.0//EN
VERSION:2.0
BEGIN:VEVENT
DESCRIPTION:Tour zum Spargelfest auf dem Hof Santelmann\, dort erwarten un
 s Spezialitäten rund um den Spargel \,Kaffee & Kuchen bei Livemusik \nAnm
 eldeschluß  10. Mai 2025\nhttps://touren-termine.adfc.de/radveranstaltung
 /154415-spargeltour-anmeldeschluss-10mai-2025
DTEND:20250511T150000Z
DTSTAMP:20260421T114821Z
DTSTART:20250511T080000Z
LOCATION:Herzogin-Eleonore-Allee Französischer Garten Am Teich\, 29221 Cel
 le
SEQUENCE:0
SUMMARY:Spargeltour       Anmeldeschluß 10.Mai 2025
UID:5486ba0f-a97b-4dc6-820c-23ca2a22ee10
URL:https://touren-termine.adfc.de/radveranstaltung/154415-spargeltour-anm
 eldeschluss-10mai-2025
END:VEVENT
END:VCALENDAR
