BEGIN:VCALENDAR
PRODID:-//github.com/rianjs/ical.net//NONSGML ical.net 4.0//EN
VERSION:2.0
BEGIN:VEVENT
DESCRIPTION:Rauf aufs Rad für eine Spritztour in die Umgebung von Gauting!
 \nWöchentlich wechselnd naturkundliche Touren und Cappuccino-Touren.\nhtt
 ps://touren-termine.adfc.de/radveranstaltung/188755-wochentliche-nachmitt
 agstour-in-gauting
DTEND:20260825T150000Z
DTSTAMP:20260425T150335Z
DTSTART:20260825T120000Z
LOCATION:Rathaus\, Bahnhofstraße 7\, 82131 Gauting
SEQUENCE:0
SUMMARY:Wöchentliche Nachmittagstour in Gauting
UID:09cab691-1324-4549-8508-bfe633589724
URL:https://touren-termine.adfc.de/radveranstaltung/188755-wochentliche-na
 chmittagstour-in-gauting
END:VEVENT
END:VCALENDAR
