BEGIN:VCALENDAR
PRODID:-//github.com/rianjs/ical.net//NONSGML ical.net 4.0//EN
VERSION:2.0
BEGIN:VEVENT
DESCRIPTION:Unser monatliches Treffen absolvieren wir im Mai beim Auftaktf
 est zum STADTRADELBN. Bei hoffentlich gutem Wetter freuen wir uns am ADFC
  Stand auf zahlreiches und interessiertes Publikum.\nhttps://touren-termi
 ne.adfc.de/radveranstaltung/128626-monatliches-treffen-mai-stadtradeln
DTEND:20240505T150000Z
DTSTAMP:20260421T151924Z
DTSTART:20240505T100000Z
LOCATION:Schlossplatz\, 29221 Celle
SEQUENCE:0
SUMMARY:Monatliches Treffen\, Mai (STADTRADELN)
UID:f470c56a-4314-419c-9fe2-fad0eeb1d361
URL:https://touren-termine.adfc.de/radveranstaltung/128626-monatliches-tre
 ffen-mai-stadtradeln
END:VEVENT
END:VCALENDAR
