BEGIN:VCALENDAR
PRODID:-//github.com/rianjs/ical.net//NONSGML ical.net 4.0//EN
VERSION:2.0
BEGIN:VEVENT
DESCRIPTION:Im Rahmen der zweiten Tour entdecken wir den Südwestfriedhof\n
 https://touren-termine.adfc.de/radveranstaltung/120115-essen-jenseits-die
 -friedhofe-unserer-stadt-2
DTEND:20240406T160000Z
DTSTAMP:20260419T115713Z
DTSTART:20240406T110000Z
LOCATION:Kopstadtplatz\, 45127 Essen
SEQUENCE:0
SUMMARY:"Essen jenseits" – die Friedhöfe unserer Stadt #2
UID:b1555777-2c26-4957-8a1b-91fe63e5279f
URL:https://touren-termine.adfc.de/radveranstaltung/120115-essen-jenseits-
 die-friedhofe-unserer-stadt-2
END:VEVENT
END:VCALENDAR
