BEGIN:VCALENDAR
PRODID:-//github.com/rianjs/ical.net//NONSGML ical.net 4.0//EN
VERSION:2.0
BEGIN:VEVENT
DESCRIPTION:Radtour durch unseren südwestlichen Kreis. Anmeldung bis zum 5
 .07.2024\nhttps://touren-termine.adfc.de/radveranstaltung/113777-markt-im
 -park-in-beilstein
DTEND:20240707T143000Z
DTSTAMP:20260424T170508Z
DTSTART:20240707T080000Z
LOCATION: Fußgängerzone\, Am Marktbrunnen\, 35745 Herborn
SEQUENCE:0
SUMMARY:Markt im Park in Beilstein
UID:74a474c8-c84f-468b-8dae-8d7d550a53fc
URL:https://touren-termine.adfc.de/radveranstaltung/113777-markt-im-park-i
 n-beilstein
END:VEVENT
END:VCALENDAR
