BEGIN:VCALENDAR
PRODID:-//github.com/rianjs/ical.net//NONSGML ical.net 4.0//EN
VERSION:2.0
BEGIN:VEVENT
DESCRIPTION:Der Vorstand berichtet über die Aktivitäten 2024\, die Kassenl
 age und die Pläne für 2025. Als Gast erläutert Wibke Schlößer vom Stadtpl
 anungsamt die aktuellen Pläne für die Fahrradhauptrouten in Hamm.\nhttps:
 //touren-termine.adfc.de/radveranstaltung/155976-mitgliederversammlung
DTEND:20250311T193000Z
DTSTAMP:20260422T000033Z
DTSTART:20250311T180000Z
LOCATION:Feidikstraße\, 59065 Hamm
SEQUENCE:0
SUMMARY:Mitgliederversammlung
UID:9db9fddd-769f-4b98-9cf9-c72ae525f3ea
URL:https://touren-termine.adfc.de/radveranstaltung/155976-mitgliederversa
 mmlung
END:VEVENT
END:VCALENDAR
