BEGIN:VCALENDAR
PRODID:-//github.com/rianjs/ical.net//NONSGML ical.net 4.0//EN
VERSION:2.0
BEGIN:VEVENT
DESCRIPTION:mit der Fähre nach Langel und weiter nach Worringen\, Delhoven
  \,Ückerath zum Kloster.\nZurück über Stommlerbusch\, Sinnersdorf nach Ch
 orweiler und vorbei am Fühlinger See zur Wacht am Rhein. Tourende!\nhttps
 ://touren-termine.adfc.de/radveranstaltung/186459-kloster-knechtsteden
DTEND:20260425T140000Z
DTSTAMP:20260419T154957Z
DTSTART:20260425T080000Z
LOCATION:Fähranleger\, Fährstraße\, 51371 Leverkusen
SEQUENCE:0
SUMMARY:Kloster Knechtsteden
UID:cd6ac850-6198-425c-b0c5-3d4161ee1e85
URL:https://touren-termine.adfc.de/radveranstaltung/186459-kloster-knechts
 teden
END:VEVENT
END:VCALENDAR
