BEGIN:VCALENDAR
PRODID:-//github.com/rianjs/ical.net//NONSGML ical.net 4.0//EN
VERSION:2.0
BEGIN:VEVENT
DESCRIPTION:Die langsamen und gemütlichen Ausfahrten führen durch die Regi
 on rund um Hechthausen.\nhttps://touren-termine.adfc.de/radveranstaltung/
 176125-nachmittagstour-in-hechthausen
DTEND:20260615T140000Z
DTSTAMP:20260421T114651Z
DTSTART:20260615T113000Z
LOCATION:Engelstüvchen\, Mühlenstraße 2\, 21755 Landkreis Cuxhaven
SEQUENCE:0
SUMMARY:Nachmittagstour in Hechthausen
UID:710cf4ac-2e15-4f6a-81b6-a62265e43b66
URL:https://touren-termine.adfc.de/radveranstaltung/176125-nachmittagstour
 -in-hechthausen
END:VEVENT
END:VCALENDAR
