BEGIN:VCALENDAR
PRODID:-//github.com/rianjs/ical.net//NONSGML ical.net 4.0//EN
VERSION:2.0
BEGIN:VEVENT
DESCRIPTION:Zum 16. Mal lädt Nabburg zum Mittelalterfest in die historisch
 e Altstadt. Fahrt entlang von Regen und Naab\, am Nachmittag Besuch des M
 ittelaltermarktes.\nhttps://touren-termine.adfc.de/radveranstaltung/88314
 -znappurch-marckt-gaudium
DTEND:20230716T160000Z
DTSTAMP:20260424T145600Z
DTSTART:20230716T070000Z
LOCATION:Bahnhofstraße 18\, 93047 Regensburg
SEQUENCE:0
SUMMARY:Z'Nappurch Marckt & Gaudium
UID:1c666d46-6792-4662-8055-769c9df118c5
URL:https://touren-termine.adfc.de/radveranstaltung/88314-znappurch-marckt
 -gaudium
END:VEVENT
END:VCALENDAR
