BEGIN:VCALENDAR
PRODID:-//github.com/rianjs/ical.net//NONSGML ical.net 4.0//EN
VERSION:2.0
BEGIN:VEVENT
DESCRIPTION:Mit dem Pedelec eine Tour von Kreuztal über die Höhe und durch
 s Wippetal in den Westerwald.  Rückweg über Siegen. Waldwege und kleine S
 traßen. Einkehr. Ladegerät oder 2.Akku. Anmeldung bis 16.05.\nhttps://tou
 ren-termine.adfc.de/radveranstaltung/151223-pedelectagestour-malbergblick
DTEND:20250517T160000Z
DTSTAMP:20260422T234718Z
DTSTART:20250517T080000Z
LOCATION:Marburgerstraße\, Roter Platz\, 57223 Kreuztal
SEQUENCE:0
SUMMARY:Pedelec-Tagestour malBERGBLICK
UID:0971db45-80bf-432a-847b-2de4285d2dfe
URL:https://touren-termine.adfc.de/radveranstaltung/151223-pedelectagestou
 r-malbergblick
END:VEVENT
END:VCALENDAR
