BEGIN:VCALENDAR
PRODID:-//github.com/rianjs/ical.net//NONSGML ical.net 4.0//EN
VERSION:2.0
BEGIN:VEVENT
DESCRIPTION:Unter fachlicher Anleitung von Anne\, Schrauberin der Lastenrä
 der von fLotte-Berlin.de\, reparieren wir gemeinsam Fahrräder. Der Worksh
 op ist kostenfrei. Melde dich an\, es sind jeweils 6 Plätze frei!\nhttps:
 //touren-termine.adfc.de/radveranstaltung/107056-fahrradreparaturworkshop
 -fur-frauen
DTEND:20231210T163000Z
DTSTAMP:20260424T050523Z
DTSTART:20231210T120000Z
LOCATION:Garage 10\, Sewanstraße 43\, 10319 Berlin
SEQUENCE:0
SUMMARY:Fahrradreparatur-Workshop für Frauen
UID:6cd6a984-8f5a-41d8-a692-0a64aff643eb
URL:https://touren-termine.adfc.de/radveranstaltung/107056-fahrradreparatu
 rworkshop-fur-frauen
END:VEVENT
END:VCALENDAR
