BEGIN:VCALENDAR
PRODID:-//github.com/rianjs/ical.net//NONSGML ical.net 4.0//EN
VERSION:2.0
BEGIN:VEVENT
DESCRIPTION:Entlang an einem der Quellbäche des Tegeler Fließes folgen wir
  diesem bis zum Mühlteich am Dammsmühler Schloß.. Auf Waldwegen umrunden 
 wir den Mühlenbecker See.\nhttps://touren-termine.adfc.de/radveranstaltun
 g/197659-natur-purtegeler-fliess-und-muhlenbecker-see
DTEND:20260426T160000Z
DTSTAMP:20260425T014854Z
DTSTART:20260426T080000Z
LOCATION:Bahnhofsplatz\, 16515 Oranienburg
SEQUENCE:0
SUMMARY:NATUR PUR-Tegeler Fließ und Mühlenbecker See
UID:16604ea0-02c7-4a30-871a-3d5aa73ecf88
URL:https://touren-termine.adfc.de/radveranstaltung/197659-natur-purtegele
 r-fliess-und-muhlenbecker-see
END:VEVENT
END:VCALENDAR
