BEGIN:VCALENDAR
PRODID:-//github.com/rianjs/ical.net//NONSGML ical.net 4.0//EN
VERSION:2.0
BEGIN:VEVENT
DESCRIPTION:Der ADFC Neumarkt codiert Fahrräder beim Auftakt zum Stadtrade
 ln\nhttps://touren-termine.adfc.de/radveranstaltung/197168-fahrradcodieru
 ng-beim-auftakt-zum-stadtradeln
DTEND:20260608T150000Z
DTSTAMP:20260424T230620Z
DTSTART:20260608T090000Z
LOCATION:Rathausplatz\, 92318 Neumarkt in der Oberpfalz
SEQUENCE:0
SUMMARY:Fahrradcodierung beim Auftakt zum Stadtradeln
UID:381d4350-75f1-4b1f-9ac5-e9945b04b55c
URL:https://touren-termine.adfc.de/radveranstaltung/197168-fahrradcodierun
 g-beim-auftakt-zum-stadtradeln
END:VEVENT
END:VCALENDAR
