BEGIN:VCALENDAR
PRODID:-//github.com/rianjs/ical.net//NONSGML ical.net 4.0//EN
VERSION:2.0
BEGIN:VEVENT
DESCRIPTION:Von Geislingen über die Ostalb nach Ulm\nhttps://touren-termin
 e.adfc.de/radveranstaltung/163834-radtour-von-geislingen-nach-ulm
DTEND:20250620T160000Z
DTSTAMP:20260424T143838Z
DTSTART:20250620T065000Z
LOCATION:Kegelenstraße 12\, 70372 Stuttgart
SEQUENCE:0
SUMMARY:Radtour von Geislingen nach Ulm
UID:cbb46f7a-c1a3-4262-8f9a-8228ae4adf7e
URL:https://touren-termine.adfc.de/radveranstaltung/163834-radtour-von-gei
 slingen-nach-ulm
END:VEVENT
END:VCALENDAR
