BEGIN:VCALENDAR
PRODID:-//github.com/rianjs/ical.net//NONSGML ical.net 4.0//EN
VERSION:2.0
BEGIN:VEVENT
DESCRIPTION:Wöchentliche freitags Radtouren der ADFC Ortsgruppe Hattingen\
 nhttps://touren-termine.adfc.de/radveranstaltung/190017-auf-ins-wochenend
 e
DTEND:20260515T160000Z
DTSTAMP:20260421T204224Z
DTSTART:20260515T130000Z
LOCATION:Parkplatz Holschentor\, Talstraße 8\, 45525 Hattingen
SEQUENCE:0
SUMMARY:Auf ins Wochenende
UID:62f9871a-907c-415a-a2dd-d5aa7955dd69
URL:https://touren-termine.adfc.de/radveranstaltung/190017-auf-ins-wochene
 nde
END:VEVENT
END:VCALENDAR
