BEGIN:VCALENDAR
PRODID:-//github.com/rianjs/ical.net//NONSGML ical.net 4.0//EN
VERSION:2.0
BEGIN:VEVENT
DESCRIPTION:Jeden Montag findet morgens eine Radtour statt.\nhttps://toure
 n-termine.adfc.de/radveranstaltung/168939-montag-morgen-tour
DTEND:20250707T100000Z
DTSTAMP:20260423T201543Z
DTSTART:20250707T080000Z
LOCATION:In der Ahe 29\, 27356 Rotenburg
SEQUENCE:0
SUMMARY:Montag Morgen Tour
UID:7576021a-da9f-4697-ac11-adab33389907
URL:https://touren-termine.adfc.de/radveranstaltung/168939-montag-morgen-t
 our
END:VEVENT
END:VCALENDAR
