BEGIN:VCALENDAR
PRODID:-//github.com/rianjs/ical.net//NONSGML ical.net 4.0//EN
VERSION:2.0
BEGIN:VEVENT
DESCRIPTION:Jeden Montag findet morgens eine Radtour statt.\nhttps://toure
 n-termine.adfc.de/radveranstaltung/137601-montag-morgen-tour
DTEND:20240923T100000Z
DTSTAMP:20260423T201301Z
DTSTART:20240923T080000Z
LOCATION:In der Ahe 29\, 27356 Rotenburg
SEQUENCE:0
SUMMARY:Montag Morgen Tour
UID:bac5cbfe-c77c-4f35-91be-8571d837c698
URL:https://touren-termine.adfc.de/radveranstaltung/137601-montag-morgen-t
 our
END:VEVENT
END:VCALENDAR
