BEGIN:VCALENDAR
PRODID:-//github.com/rianjs/ical.net//NONSGML ical.net 4.0//EN
VERSION:2.0
BEGIN:VEVENT
DESCRIPTION:Eine Wanderung vom Bhf. Wannsee durch den Düppeler Forst zum T
 eltow-Kanal. Diesen geht es entlang bis Alt-Schönow (Zehlendorf).\nhttps:
 //touren-termine.adfc.de/radveranstaltung/177396-wanderung-zum-adventsmar
 kt-in-altschonow
DTEND:20251213T150000Z
DTSTAMP:20260424T232242Z
DTSTART:20251213T093500Z
LOCATION:Bhf. Berlin Wannsee\, Ausgang: Kronprinzessinnenweg\, 14109 Berlin
SEQUENCE:0
SUMMARY:WANDERUNG  zum Adventsmarkt in Alt-Schönow
UID:fa523d22-258e-4343-8511-073795ac2d09
URL:https://touren-termine.adfc.de/radveranstaltung/177396-wanderung-zum-a
 dventsmarkt-in-altschonow
END:VEVENT
END:VCALENDAR
