BEGIN:VCALENDAR
PRODID:-//github.com/rianjs/ical.net//NONSGML ical.net 4.0//EN
VERSION:2.0
BEGIN:VEVENT
DESCRIPTION:Das Nachtradeln als Demo unter dem Motto #SucheSicherenRadweg\
 nhttps://touren-termine.adfc.de/radveranstaltung/198006-nachtradelndemo-s
 uchesicherenradweg
DTEND:20260522T215500Z
DTSTAMP:20260419T143856Z
DTSTART:20260522T190000Z
LOCATION:Essen (Innenstadt)\, Hirschlandplatz\, 45127 Essen
SEQUENCE:0
SUMMARY:Nachtradeln-Demo #SucheSicherenRadweg
UID:8322364d-8187-4bbe-b812-d309b7490bc4
URL:https://touren-termine.adfc.de/radveranstaltung/198006-nachtradelndemo
 -suchesicherenradweg
END:VEVENT
END:VCALENDAR
