BEGIN:VCALENDAR
PRODID:-//github.com/rianjs/ical.net//NONSGML ical.net 4.0//EN
VERSION:2.0
BEGIN:VEVENT
DESCRIPTION:WM-Hardt-Bernried-Haunshofen (mit Einkehr im Dorfwirt)-Wilzhof
 en-WM\nhttps://touren-termine.adfc.de/radveranstaltung/160097-feierabendt
 our
DTEND:20250516T183000Z
DTSTAMP:20260421T101044Z
DTSTART:20250516T150000Z
LOCATION:Marienplatz\, 82362 Weilheim
SEQUENCE:0
SUMMARY:Feierabendtour
UID:46191523-cab8-4ce5-8f81-7523f1fec50f
URL:https://touren-termine.adfc.de/radveranstaltung/160097-feierabendtour
END:VEVENT
END:VCALENDAR
