BEGIN:VCALENDAR
PRODID:-//github.com/rianjs/ical.net//NONSGML ical.net 4.0//EN
VERSION:2.0
BEGIN:VEVENT
DESCRIPTION:Auf der Tour wird eine Geschwindigkeit 20 – 22 km/h gefahren. 
 Sie ist 80 km lang. Der Weg führt von Mellendorf über Resse. Steinhude. M
 ittagspause Restaurant am Weißen. Zurück Neustadt\, Mellendorf.\nhttps://
 touren-termine.adfc.de/radveranstaltung/169031-turbotour-zu-steinhuder-me
 er
DTEND:20250726T150000Z
DTSTAMP:20260425T165323Z
DTSTART:20250726T080000Z
LOCATION:Wedemarkstraße 85\, 30900 Wedemark
SEQUENCE:0
SUMMARY:"Turbo-Tour" zu\, Steinhuder Meer
UID:7cffa727-1f26-47e4-b551-1ee555b991aa
URL:https://touren-termine.adfc.de/radveranstaltung/169031-turbotour-zu-st
 einhuder-meer
END:VEVENT
END:VCALENDAR
