BEGIN:VCALENDAR
PRODID:-//github.com/rianjs/ical.net//NONSGML ical.net 4.0//EN
VERSION:2.0
BEGIN:VEVENT
DESCRIPTION:Wir bieten den Gästen des Mobility Festivals die Gelegenheit m
 it erfahren ADFC-TourGuides zum STADTRADELN-Auftaktfest nach Kaltehofe zu
  fahren\nhttps://touren-termine.adfc.de/radveranstaltung/164588-ab-jungfe
 rnstieg-zum-stadtradelnfest-kaltehofe
DTEND:20250614T140000Z
DTSTAMP:20260421T055316Z
DTSTART:20250614T130000Z
LOCATION:Jungfernstieg 54\, 20354 Hamburg
SEQUENCE:0
SUMMARY:Ab Jungfernstieg zum STADTRADELN-Fest / Kaltehofe
UID:34fde2d9-f5a8-4390-88d3-83a75c983967
URL:https://touren-termine.adfc.de/radveranstaltung/164588-ab-jungfernstie
 g-zum-stadtradelnfest-kaltehofe
END:VEVENT
END:VCALENDAR
