BEGIN:VCALENDAR
PRODID:-//github.com/rianjs/ical.net//NONSGML ical.net 4.0//EN
VERSION:2.0
BEGIN:VEVENT
DESCRIPTION:Wir radeln eine gemütliche Runde zu verschiedenen Zielen in de
 r Stadt und genießen dabei Hamburg-Flair\, Natur und Adfc-Geselligkeit. \
 nNicht bei Regenwetter.\nhttps://touren-termine.adfc.de/radveranstaltung/
 129438-wandsbeker-feierabendcruise
DTEND:20240829T183000Z
DTSTAMP:20260420T230746Z
DTSTART:20240829T163000Z
LOCATION:Liegewiese im Eichtalpark mit ovaler Skulptur\, 22041 Hamburg\, W
 andsbek
SEQUENCE:0
SUMMARY:Wandsbeker Feierabendcruise
UID:43f250a3-ca4b-49c2-a7e2-90d5172ea1cb
URL:https://touren-termine.adfc.de/radveranstaltung/129438-wandsbeker-feie
 rabendcruise
END:VEVENT
END:VCALENDAR
