BEGIN:VCALENDAR
PRODID:-//github.com/rianjs/ical.net//NONSGML ical.net 4.0//EN
VERSION:2.0
BEGIN:VEVENT
DESCRIPTION:Gemütlich einen Glühwein trinken und die Leckereien genießen.\
 nErkennungsmerkmal: Gelbe Weste\nhttps://touren-termine.adfc.de/radverans
 taltung/172669-weihnachtmarkt-elisabethkirche-langenhagen
DTEND:20250914T150000Z
DTSTAMP:20260424T173128Z
DTSTART:20250914T140000Z
LOCATION:Elisabethkirche\, Kirchplatz 7\, 30853 Langenhagen
SEQUENCE:0
SUMMARY:Weihnachtmarkt Elisabethkirche Langenhagen
UID:887de513-1bb0-4490-ad47-4e43a29770af
URL:https://touren-termine.adfc.de/radveranstaltung/172669-weihnachtmarkt-
 elisabethkirche-langenhagen
END:VEVENT
END:VCALENDAR
