BEGIN:VCALENDAR
PRODID:-//github.com/rianjs/ical.net//NONSGML ical.net 4.0//EN
VERSION:2.0
BEGIN:VEVENT
DESCRIPTION:Durch die Felder und am Rhein entlang zur Rodenkirchener Brück
 e. Im Kölner Grüngürtel Einkehr in einem gemütlichen Biergarten. Rückweg 
 über Immendorf und Wesseling.\nhttps://touren-termine.adfc.de/radveransta
 ltung/130153-sonntagstour-in-den-kolner-grungurtel
DTEND:20240421T140000Z
DTSTAMP:20260421T102204Z
DTSTART:20240421T090000Z
LOCATION:Hoher Rain\, Niederkassel-Rheidt (kath. Kirche)\, 53859 Niederkas
 sel
SEQUENCE:0
SUMMARY:Sonntagstour in den Kölner Grüngürtel
UID:0beae4c2-8baf-4271-893c-ec41a30d8727
URL:https://touren-termine.adfc.de/radveranstaltung/130153-sonntagstour-in
 -den-kolner-grungurtel
END:VEVENT
END:VCALENDAR
