BEGIN:VCALENDAR
PRODID:-//github.com/rianjs/ical.net//NONSGML ical.net 4.0//EN
VERSION:2.0
BEGIN:VEVENT
DESCRIPTION:Unsere Geschäftsstelle ist für alle Anliegen und offenen Frage
 n geöffnet.\nhttps://touren-termine.adfc.de/radveranstaltung/130256-offnu
 ngszeit-unserer-geschaftsstelle
DTEND:20240418T160000Z
DTSTAMP:20260421T120757Z
DTSTART:20240418T140000Z
LOCATION:Essen (Innenstadt)\, ADFC Essen Geschäftsstelle\, Rottstraße 5\, 
 45127 Essen
SEQUENCE:0
SUMMARY:Öffnungszeit unserer Geschäftsstelle
UID:52d7b3df-fccb-492c-aec8-5a3f6a876867
URL:https://touren-termine.adfc.de/radveranstaltung/130256-offnungszeit-un
 serer-geschaftsstelle
END:VEVENT
END:VCALENDAR
