BEGIN:VCALENDAR
PRODID:-//github.com/rianjs/ical.net//NONSGML ical.net 4.0//EN
VERSION:2.0
BEGIN:VEVENT
DESCRIPTION:62_km_Fuhsebruecke_u._Celler_Hafen\nhttps://touren-termine.adf
 c.de/radveranstaltung/159270-ganztagstour-62-km-zum-celler-hafen
DTEND:20250608T160000Z
DTSTAMP:20260423T105706Z
DTSTART:20250608T080000Z
LOCATION:Fuhrberger Straße 4\, 30938 Burgwedel
SEQUENCE:0
SUMMARY:Ganztagstour 62 km zum Celler Hafen
UID:26f75c95-c3d4-413c-a876-92ff1f05b350
URL:https://touren-termine.adfc.de/radveranstaltung/159270-ganztagstour-62
 -km-zum-celler-hafen
END:VEVENT
END:VCALENDAR
