BEGIN:VCALENDAR
PRODID:-//github.com/rianjs/ical.net//NONSGML ical.net 4.0//EN
VERSION:2.0
BEGIN:VEVENT
DESCRIPTION:Feierabendtour von Olpe nach Oberveischede auf kleinen Straßen
  und Radwegen. Nur etwa 2 km auf einem Waldweg. Für Biobiker und Pedelec-
 FahrerInnen. Anmeldung bis 26.05. obligatorisch.\nhttps://touren-termine.
 adfc.de/radveranstaltung/149595-feierabendtour-von-olpe-nach-oberveisched
 e
DTEND:20250527T193000Z
DTSTAMP:20260422T234317Z
DTSTART:20250527T160000Z
LOCATION:Seeweg 5\, Freizeitbad\, 57462 Olpe
SEQUENCE:0
SUMMARY:Feierabendtour von Olpe nach Oberveischede
UID:e66e61ab-88aa-437f-b092-285c1b440ec0
URL:https://touren-termine.adfc.de/radveranstaltung/149595-feierabendtour-
 von-olpe-nach-oberveischede
END:VEVENT
END:VCALENDAR
