BEGIN:VCALENDAR
PRODID:-//github.com/rianjs/ical.net//NONSGML ical.net 4.0//EN
VERSION:2.0
BEGIN:VEVENT
DESCRIPTION:Du willst die Radfahrsituation in Korschenbroich verbessern? D
 ann bist du hier richtig.\nhttps://touren-termine.adfc.de/radveranstaltun
 g/137389-arbeitskreis-mobilitat-und-sicherheit
DTEND:20241017T190000Z
DTSTAMP:20260423T151753Z
DTSTART:20241017T163000Z
LOCATION:Don-Bosco-Straße 4-6\, Eingang Borrenweg\, 41352 Korschenbroich
SEQUENCE:0
SUMMARY:Arbeitskreis Mobilität und Sicherheit
UID:1f721028-4b83-43e9-9ecd-291ff7ebc119
URL:https://touren-termine.adfc.de/radveranstaltung/137389-arbeitskreis-mo
 bilitat-und-sicherheit
END:VEVENT
END:VCALENDAR
